BEGIN:VCALENDAR
VERSION:2.0
PRODID:-//Église Orthodoxe Celtique - ECPv6.15.20//NONSGML v1.0//EN
CALSCALE:GREGORIAN
METHOD:PUBLISH
X-WR-CALNAME:Église Orthodoxe Celtique
X-ORIGINAL-URL:https://eglise-orthodoxe-celtique.org
X-WR-CALDESC:Évènements pour Église Orthodoxe Celtique
REFRESH-INTERVAL;VALUE=DURATION:PT1H
X-Robots-Tag:noindex
X-PUBLISHED-TTL:PT1H
BEGIN:VTIMEZONE
TZID:Europe/Paris
BEGIN:DAYLIGHT
TZOFFSETFROM:+0100
TZOFFSETTO:+0200
TZNAME:CEST
DTSTART:20230326T010000
END:DAYLIGHT
BEGIN:STANDARD
TZOFFSETFROM:+0200
TZOFFSETTO:+0100
TZNAME:CET
DTSTART:20231029T010000
END:STANDARD
BEGIN:DAYLIGHT
TZOFFSETFROM:+0100
TZOFFSETTO:+0200
TZNAME:CEST
DTSTART:20240331T010000
END:DAYLIGHT
BEGIN:STANDARD
TZOFFSETFROM:+0200
TZOFFSETTO:+0100
TZNAME:CET
DTSTART:20241027T010000
END:STANDARD
BEGIN:DAYLIGHT
TZOFFSETFROM:+0100
TZOFFSETTO:+0200
TZNAME:CEST
DTSTART:20250330T010000
END:DAYLIGHT
BEGIN:STANDARD
TZOFFSETFROM:+0200
TZOFFSETTO:+0100
TZNAME:CET
DTSTART:20251026T010000
END:STANDARD
END:VTIMEZONE
BEGIN:VEVENT
DTSTART;TZID=Europe/Paris:20240406T100000
DTEND;TZID=Europe/Paris:20240406T113000
DTSTAMP:20260422T141556
CREATED:20240402T192438Z
LAST-MODIFIED:20240402T193130Z
UID:4125-1712397600-1712403000@eglise-orthodoxe-celtique.org
SUMMARY:Enseignement de Mgr Marc
DESCRIPTION:Troisième pensée : « L’Avarice » \n\n\n\nselon le livre : L’émergence de la personne de Pierre Burgat \n\n\n\nLes enseignements ont lieu tous les samedis au monastère Sainte-Présence.
URL:https://eglise-orthodoxe-celtique.org/evenement/enseignement-de-mgr-marc/
CATEGORIES:Enseignements de Mgr Marc
END:VEVENT
END:VCALENDAR