BEGIN:VCALENDAR
VERSION:2.0
PRODID:-//Église Orthodoxe Celtique - ECPv6.15.20//NONSGML v1.0//EN
CALSCALE:GREGORIAN
METHOD:PUBLISH
X-ORIGINAL-URL:https://eglise-orthodoxe-celtique.org
X-WR-CALDESC:Évènements pour Église Orthodoxe Celtique
REFRESH-INTERVAL;VALUE=DURATION:PT1H
X-Robots-Tag:noindex
X-PUBLISHED-TTL:PT1H
BEGIN:VTIMEZONE
TZID:Europe/Paris
BEGIN:DAYLIGHT
TZOFFSETFROM:+0100
TZOFFSETTO:+0200
TZNAME:CEST
DTSTART:20230326T010000
END:DAYLIGHT
BEGIN:STANDARD
TZOFFSETFROM:+0200
TZOFFSETTO:+0100
TZNAME:CET
DTSTART:20231029T010000
END:STANDARD
BEGIN:DAYLIGHT
TZOFFSETFROM:+0100
TZOFFSETTO:+0200
TZNAME:CEST
DTSTART:20240331T010000
END:DAYLIGHT
BEGIN:STANDARD
TZOFFSETFROM:+0200
TZOFFSETTO:+0100
TZNAME:CET
DTSTART:20241027T010000
END:STANDARD
BEGIN:DAYLIGHT
TZOFFSETFROM:+0100
TZOFFSETTO:+0200
TZNAME:CEST
DTSTART:20250330T010000
END:DAYLIGHT
BEGIN:STANDARD
TZOFFSETFROM:+0200
TZOFFSETTO:+0100
TZNAME:CET
DTSTART:20251026T010000
END:STANDARD
END:VTIMEZONE
BEGIN:VEVENT
DTSTART;TZID=Europe/Paris:20240427T100000
DTEND;TZID=Europe/Paris:20240427T113000
DTSTAMP:20260422T142023
CREATED:20240425T153727Z
LAST-MODIFIED:20240425T153844Z
UID:4252-1714212000-1714217400@eglise-orthodoxe-celtique.org
SUMMARY:La Tristesse
DESCRIPTION:Suite de l’enseignement de Mgr Marc à partir du livre de Pierre Burgat : « L’émergence de la personne »
URL:https://eglise-orthodoxe-celtique.org/evenement/la-tristesse/
CATEGORIES:Enseignements de Mgr Marc
END:VEVENT
END:VCALENDAR