BEGIN:VCALENDAR
VERSION:2.0
PRODID:-//Église Orthodoxe Celtique - ECPv6.15.20//NONSGML v1.0//EN
CALSCALE:GREGORIAN
METHOD:PUBLISH
X-ORIGINAL-URL:https://eglise-orthodoxe-celtique.org
X-WR-CALDESC:Évènements pour Église Orthodoxe Celtique
REFRESH-INTERVAL;VALUE=DURATION:PT1H
X-Robots-Tag:noindex
X-PUBLISHED-TTL:PT1H
BEGIN:VTIMEZONE
TZID:Europe/Paris
BEGIN:DAYLIGHT
TZOFFSETFROM:+0100
TZOFFSETTO:+0200
TZNAME:CEST
DTSTART:20200329T010000
END:DAYLIGHT
BEGIN:STANDARD
TZOFFSETFROM:+0200
TZOFFSETTO:+0100
TZNAME:CET
DTSTART:20201025T010000
END:STANDARD
BEGIN:DAYLIGHT
TZOFFSETFROM:+0100
TZOFFSETTO:+0200
TZNAME:CEST
DTSTART:20210328T010000
END:DAYLIGHT
BEGIN:STANDARD
TZOFFSETFROM:+0200
TZOFFSETTO:+0100
TZNAME:CET
DTSTART:20211031T010000
END:STANDARD
BEGIN:DAYLIGHT
TZOFFSETFROM:+0100
TZOFFSETTO:+0200
TZNAME:CEST
DTSTART:20220327T010000
END:DAYLIGHT
BEGIN:STANDARD
TZOFFSETFROM:+0200
TZOFFSETTO:+0100
TZNAME:CET
DTSTART:20221030T010000
END:STANDARD
END:VTIMEZONE
BEGIN:VEVENT
DTSTART;TZID=Europe/Paris:20211031T100000
DTEND;TZID=Europe/Paris:20211031T190000
DTSTAMP:20260424T052724
CREATED:20211024T154459Z
LAST-MODIFIED:20231027T165220Z
UID:3071-1635674400-1635706800@eglise-orthodoxe-celtique.org
SUMMARY:Liturgie Eucharistique et vigiles de la fête de tous les saints
DESCRIPTION:10h30 – Liturgie Eucharistique\n17h30 – Vigiles de la fête de tous les saints
URL:https://eglise-orthodoxe-celtique.org/evenement/liturgie-eucharistique-et-vigiles-de-la-fete-de-tous-les-saints/
LOCATION:Cathédrale Notre-Dame du Signe\, 1 L'Hermitage\, Saint Dolay\, 56130\, France
CATEGORIES:Test,University
ATTACH;FMTTYPE=image/jpeg:https://eglise-orthodoxe-celtique.org/wp-content/uploads/2020/11/glendalough-scaled-1-2048x1366-1.jpg
END:VEVENT
END:VCALENDAR